BEGIN:VCALENDAR
VERSION:2.0
PRODID:-//Rivers &amp; Lands Conservancy - ECPv6.9.0//NONSGML v1.0//EN
CALSCALE:GREGORIAN
METHOD:PUBLISH
X-WR-CALNAME:Rivers &amp; Lands Conservancy
X-ORIGINAL-URL:https://riversandlands.org
X-WR-CALDESC:Events for Rivers &amp; Lands Conservancy
REFRESH-INTERVAL;VALUE=DURATION:PT1H
X-Robots-Tag:noindex
X-PUBLISHED-TTL:PT1H
BEGIN:VTIMEZONE
TZID:UTC
BEGIN:STANDARD
TZOFFSETFROM:+0000
TZOFFSETTO:+0000
TZNAME:UTC
DTSTART:20260101T000000
END:STANDARD
END:VTIMEZONE
BEGIN:VEVENT
DTSTART;TZID=UTC:20260418T100000
DTEND;TZID=UTC:20260418T120000
DTSTAMP:20260420T092252
CREATED:20260331T194336Z
LAST-MODIFIED:20260331T194823Z
UID:7438-1776506400-1776513600@riversandlands.org
SUMMARY:"Birding and Blooms" Community Event
DESCRIPTION:Join us for a morning of nature and discovery at our “Birding and Blooms” community event at the Gilman Historic Ranch and Wagon Museum! Hosted in collaboration with the Riverside County Regional Park and Open-Space District\, this family-friendly event offers a variety of ways to connect with the outdoors. \nFeatured activities include a guided bird walk led by our Co-Executive Director and falconer\, Rebecca O’Connor. On the walk\, Rebecca will help you learn how to spot and identify local bird species in their natural habitat. The bird walk will start at approximately 10:15 am and will take place on a dirt trail that includes some uphill\, downhill\, and uneven terrain. In addition to birding\, participants can take part in a hands-on native seed activity (resulting in seeds you can take home to grow in your own garden!) and a variety of other nature-based activities designed for all ages. \nWhether you’re a seasoned birder or a plant expert or just looking for a fun way to spend your morning\, our “Birding and Blooms” event provides a great opportunity to explore\, learn\, and enjoy the beauty of our local environment. 🐦‍⬛🌼
URL:https://riversandlands.org/event/join-us-for-birding-and-blooms/
LOCATION:Gilman Historic Ranch and Wagon Museum\, 1901 W Wilson Street\, Banning\, CA\, 92220\, United States
CATEGORIES:Community Events
END:VEVENT
END:VCALENDAR