BEGIN:VCALENDAR
VERSION:2.0
PRODID:-//Rivers &amp; Lands Conservancy - ECPv6.9.0//NONSGML v1.0//EN
CALSCALE:GREGORIAN
METHOD:PUBLISH
X-ORIGINAL-URL:https://riversandlands.org
X-WR-CALDESC:Events for Rivers &amp; Lands Conservancy
REFRESH-INTERVAL;VALUE=DURATION:PT1H
X-Robots-Tag:noindex
X-PUBLISHED-TTL:PT1H
BEGIN:VTIMEZONE
TZID:UTC
BEGIN:STANDARD
TZOFFSETFROM:+0000
TZOFFSETTO:+0000
TZNAME:UTC
DTSTART:20260101T000000
END:STANDARD
END:VTIMEZONE
BEGIN:VEVENT
DTSTART;TZID=UTC:20260327T090000
DTEND;TZID=UTC:20260327T120000
DTSTAMP:20260420T125816
CREATED:20260224T002715Z
LAST-MODIFIED:20260317T005723Z
UID:7398-1774602000-1774612800@riversandlands.org
SUMMARY:Delhi Sand Dune Habitat Restoration Volunteer Event
DESCRIPTION:With extremely high temps forecasted for this week\, we are rescheduling our habitat restoration volunteer event originally planned for this Friday\, March 20th to a new date of Friday\, March 27th. We appreciate your understanding and hope you can still join us for a morning of donuts and dune restoration on March 27th! 🍩🌾 \nParticipating volunteers will be assisting with removing a variety of non-native\, invasive weeds (either hand pulling or using tools\, such as hula hoes and shovels) to help support our ongoing efforts to restore Delhi sand dune habitat. Participation in the event requires walking approximately 1-2 miles over sandy and moderately uneven terrain. Ages 10 and up recommended based on the nature of the activities. All necessary supplies will be provided. \nVolunteers must RSVP ahead of time through our signup platform by clicking here. Questions? Reach out to Angie at aleon@riversandlands.org. Space is limited\, so save your spot today! \nThank you for helping to restore this valuable habitat for all the native plants and animals that call the rare dune environment home! 🪰🌾
URL:https://riversandlands.org/event/delhi-sand-dune-habitat-restoration-volunteer-event-6/
CATEGORIES:Community Events,Volunteer Event
END:VEVENT
BEGIN:VEVENT
DTSTART;TZID=UTC:20260328T100000
DTEND;TZID=UTC:20260328T150000
DTSTAMP:20260420T125816
CREATED:20260302T175638Z
LAST-MODIFIED:20260302T193554Z
UID:7404-1774692000-1774710000@riversandlands.org
SUMMARY:Native Plant Festival Community Event!
DESCRIPTION:Come visit Rivers & Lands Conservancy staff as we table at the “Native Plant Festival” on Saturday\, March 28th from 10am to 3pm at the California Botanic Garden in Claremont. This free\, family-friendly event celebrates California’s incredible biodiversity and highlights how we can all make a difference to protect and restore the landscapes around us. There will be dozens of regional nonprofits\, landscapers\, and agencies with info on native plant landscaping\, wildlands conservation and restoration\, PLUS crafts\, music\, storytime\, food\, and more! \nLearn more about advance tickets\, parking\, and more details here. We hope to see you there as we share about the different ways we work to protect and care for our region’s native plants and the natural spaces they call home! 🌻🌼🌳🌾🌵
URL:https://riversandlands.org/event/native-plant-festival-community-event/
LOCATION:California Botanic Garden\, 1500 N. College Ave.\, Claremont\, CA\, United States
CATEGORIES:Community Events
END:VEVENT
END:VCALENDAR