BEGIN:VCALENDAR
VERSION:2.0
PRODID:-//Rivers &amp; Lands Conservancy - ECPv6.9.0//NONSGML v1.0//EN
CALSCALE:GREGORIAN
METHOD:PUBLISH
X-ORIGINAL-URL:https://riversandlands.org
X-WR-CALDESC:Events for Rivers &amp; Lands Conservancy
REFRESH-INTERVAL;VALUE=DURATION:PT1H
X-Robots-Tag:noindex
X-PUBLISHED-TTL:PT1H
BEGIN:VTIMEZONE
TZID:UTC
BEGIN:STANDARD
TZOFFSETFROM:+0000
TZOFFSETTO:+0000
TZNAME:UTC
DTSTART:20260101T000000
END:STANDARD
END:VTIMEZONE
BEGIN:VEVENT
DTSTART;TZID=UTC:20260516T090000
DTEND;TZID=UTC:20260516T120000
DTSTAMP:20260422T091043
CREATED:20260406T233909Z
LAST-MODIFIED:20260406T234025Z
UID:7452-1778922000-1778932800@riversandlands.org
SUMMARY:Delhi Sand Dune Habitat Restoration Volunteer Event
DESCRIPTION:Join us on Saturday\, May 16th from 9am-12pm for restoration work at one of our unique Delhi sand dunes conservation sites located in the City of Colton. This important open space area was conserved to protect habitat for the federally endangered Delhi Sands flower-loving fly. To help the landscape recover from past off-roading activities\, participating volunteers will assist with installing wooden shims and watering planting sites to encourage the reestablishment of the dunes. \nParticipation in the event requires walking approximately 1-2 miles over sandy and moderately uneven terrain. All necessary supplies will be provided. \nVolunteers must register ahead of time. For more event details and to register\, click here. Questions? Reach out to Angie at aleon@riversandlands.org. Space is limited\, so save your spot today! \nThank you for helping to restore this valuable habitat for all the native plants and animals that call the rare dune environment home!  \n 
URL:https://riversandlands.org/event/delhi-sand-dune-habitat-restoration-volunteer-event-7/
LOCATION:Colton\, CA
CATEGORIES:Community Events,Volunteer Event
END:VEVENT
BEGIN:VEVENT
DTSTART;TZID=UTC:20260523T090000
DTEND;TZID=UTC:20260523T120000
DTSTAMP:20260422T091043
CREATED:20260414T171816Z
LAST-MODIFIED:20260414T174015Z
UID:7457-1779526800-1779537600@riversandlands.org
SUMMARY:Oak Watering & Maintenance Volunteer Event
DESCRIPTION:We’re looking for volunteers to join Rivers & Lands Conservancy staff on Saturday\, May 23rd to help water and care for the young oak seedlings planted at our Cienega Canyon Preserve\, located in the City of Calimesa! 🌱 \nDid you know oaks are among the most important plants for local wildlife? Unfortunately\, however\, oak trees at Cienega Canyon Preserve face many challenges\, including drought\, pests\, and disease. To meet these challenges\, we’re working with local community partners\, students\, and volunteers to restore oak woodland habitat for the many types of animals that call Cienega Canyon Preserve home. \nParticipating volunteers will assist with hand watering\, mulching\, and weeding oak planting sites. The event requires hand carrying water jugs\, using hand tools such as shovels\, and walking approximately 2-3 miles over uneven\, dirt terrain for the duration of the event. \nVolunteers must register ahead of time. For more event details and to register\, click here. Questions? Reach out to Angie at aleon@riversandlands.org. Space is limited\, so save your spot today! \nMany thanks to our project funders at Inland Empire Resource Conservation District for supporting our efforts to restore oak woodland habitat at Cienega Canyon Preserve. 
URL:https://riversandlands.org/event/oak-watering-maintenance-volunteer-event/
LOCATION:Cienega Canyon Preserve
CATEGORIES:Community Events,Volunteer Event
END:VEVENT
BEGIN:VEVENT
DTSTART;TZID=UTC:20260530T090000
DTEND;TZID=UTC:20260530T120000
DTSTAMP:20260422T091043
CREATED:20260416T204840Z
LAST-MODIFIED:20260416T204840Z
UID:7481-1780131600-1780142400@riversandlands.org
SUMMARY:Habitat Restoration Volunteer Event
DESCRIPTION:Volunteer with us on Saturday\, May 30th from 9am-12pm to support our ongoing habitat restoration work at one of our unique Delhi sand dunes conservation properties located in the City of Fontana. This important open space area was conserved to protect habitat for the federally endangered Delhi Sands flower-loving fly and the federally threatened California gnatcatcher. To help the landscape transition from the invasion of non-native plant species\, participating volunteers will assist with hand watering and weeding California native planting sites established last fall by local college students and community members. 🌻 \nParticipation in the event requires walking approximately 1-2 miles over uneven\, dirt terrain. Participants will carry buckets of water and use a variety of hand tools (such as trowels and hula hoes) to complete the activities described above. All necessary supplies will be provided. \nVolunteers must register ahead of time. For more event details and to register\, click here. Questions? Reach out to Angie at aleon@riversandlands.org. Space is limited\, so save your spot today! \nYour efforts will help support our goal to provide much-needed food and shelter for the unique wildlife that calls the area home. Thank you for helping us achieve that goal!
URL:https://riversandlands.org/event/habitat-restoration-volunteer-event-3/
LOCATION:Fontana
CATEGORIES:Community Events,Volunteer Event
END:VEVENT
END:VCALENDAR